Package: ChAMP Version: 2.39.0 Command: F:\biocbuild\bbs-3.22-bioc\R\bin\R.exe CMD INSTALL ChAMP StartedAt: 2025-07-21 17:18:51 -0400 (Mon, 21 Jul 2025) EndedAt: 2025-07-21 17:18:51 -0400 (Mon, 21 Jul 2025) EllapsedTime: 0.4 seconds RetCode: 1 Status: ERROR