Package: Cepo Version: 1.15.0 Command: F:\biocbuild\bbs-3.22-bioc\R\bin\R.exe CMD check --no-multiarch --install=check:Cepo.install-out.txt --library=F:\biocbuild\bbs-3.22-bioc\R\library --no-vignettes --timings Cepo_1.15.0.tar.gz StartedAt: 2025-07-01 00:21:40 -0400 (Tue, 01 Jul 2025) EndedAt: 2025-07-01 00:26:40 -0400 (Tue, 01 Jul 2025) EllapsedTime: 299.9 seconds RetCode: 0 Status: OK CheckDir: Cepo.Rcheck Warnings: 0