Package: Cepo Version: 1.15.0 Command: /Library/Frameworks/R.framework/Resources/bin/R CMD INSTALL Cepo StartedAt: 2025-07-14 15:12:19 -0400 (Mon, 14 Jul 2025) EndedAt: 2025-07-14 15:12:34 -0400 (Mon, 14 Jul 2025) EllapsedTime: 14.6 seconds RetCode: 0 Status: OK