Package: CelliD Version: 1.17.0 Command: /Library/Frameworks/R.framework/Resources/bin/R CMD INSTALL CelliD StartedAt: 2025-07-04 15:46:20 -0400 (Fri, 04 Jul 2025) EndedAt: 2025-07-04 15:47:47 -0400 (Fri, 04 Jul 2025) EllapsedTime: 86.9 seconds RetCode: 0 Status: OK