Package: CelliD Version: 1.17.0 Command: /Library/Frameworks/R.framework/Resources/bin/R CMD check --install=check:CelliD.install-out.txt --library=/Library/Frameworks/R.framework/Resources/library --no-vignettes --timings CelliD_1.17.0.tar.gz StartedAt: 2025-07-07 19:38:43 -0400 (Mon, 07 Jul 2025) EndedAt: 2025-07-07 19:44:53 -0400 (Mon, 07 Jul 2025) EllapsedTime: 370.1 seconds RetCode: 0 Status: WARNINGS CheckDir: CelliD.Rcheck Warnings: 1