Package: CelliD Version: 1.17.0 Command: /Library/Frameworks/R.framework/Resources/bin/R CMD check --install=check:CelliD.install-out.txt --library=/Library/Frameworks/R.framework/Resources/library --no-vignettes --timings CelliD_1.17.0.tar.gz StartedAt: 2025-07-13 18:25:32 -0400 (Sun, 13 Jul 2025) EndedAt: 2025-07-13 18:27:38 -0400 (Sun, 13 Jul 2025) EllapsedTime: 125.7 seconds RetCode: 0 Status: WARNINGS CheckDir: CelliD.Rcheck Warnings: 1