Package: CellTrails Version: 1.27.0 Command: F:\biocbuild\bbs-3.22-bioc\R\bin\R.exe CMD check --no-multiarch --install=check:CellTrails.install-out.txt --library=F:\biocbuild\bbs-3.22-bioc\R\library --no-vignettes --timings CellTrails_1.27.0.tar.gz StartedAt: 2025-07-01 00:20:59 -0400 (Tue, 01 Jul 2025) EndedAt: 2025-07-01 00:26:13 -0400 (Tue, 01 Jul 2025) EllapsedTime: 314.0 seconds RetCode: 0 Status: OK CheckDir: CellTrails.Rcheck Warnings: 0