Package: CellTrails Version: 1.27.0 Command: chmod a+r CellTrails -R && F:\biocbuild\bbs-3.22-bioc\R\bin\R.exe CMD build --keep-empty-dirs --no-resave-data CellTrails StartedAt: 2025-06-29 17:54:27 -0400 (Sun, 29 Jun 2025) EndedAt: 2025-06-29 17:55:51 -0400 (Sun, 29 Jun 2025) EllapsedTime: 83.9 seconds RetCode: 0 Status: OK PackageFile: CellTrails_1.27.0.tar.gz PackageFileSize: 2.629 MiB