############################################################################## ############################################################################## ### ### Running command: ### ### rm -rf CellTrails.buildbin-libdir && mkdir CellTrails.buildbin-libdir && F:\biocbuild\bbs-3.22-bioc\R\bin\R.exe CMD INSTALL --build --library=CellTrails.buildbin-libdir CellTrails_1.27.0.tar.gz ### ############################################################################## ############################################################################## * installing *source* package 'CellTrails' ... ** this is package 'CellTrails' version '1.27.0' ** using staged installation ** R ** data ** inst ** byte-compile and prepare package for lazy loading ** help *** installing help indices ** building package indices ** installing vignettes ** testing if installed package can be loaded from temporary location ** testing if installed package can be loaded from final location ** testing if installed package keeps a record of temporary installation path * MD5 sums packaged installation of 'CellTrails' as CellTrails_1.27.0.zip * DONE (CellTrails)