Package: CellNOptR Version: 1.55.0 Command: F:\biocbuild\bbs-3.22-bioc\R\bin\R.exe CMD INSTALL CellNOptR StartedAt: 2025-07-09 16:34:05 -0400 (Wed, 09 Jul 2025) EndedAt: 2025-07-09 16:35:07 -0400 (Wed, 09 Jul 2025) EllapsedTime: 61.7 seconds RetCode: 0 Status: OK