Package: CellNOptR Version: 1.55.0 Command: F:\biocbuild\bbs-3.22-bioc\R\bin\R.exe CMD check --no-multiarch --install=check:CellNOptR.install-out.txt --library=F:\biocbuild\bbs-3.22-bioc\R\library --no-vignettes --timings CellNOptR_1.55.0.tar.gz StartedAt: 2025-07-10 00:53:41 -0400 (Thu, 10 Jul 2025) EndedAt: 2025-07-10 00:56:37 -0400 (Thu, 10 Jul 2025) EllapsedTime: 175.1 seconds RetCode: 1 Status: ERROR CheckDir: CellNOptR.Rcheck Warnings: NA