Package: CellNOptR Version: 1.55.0 Command: chmod a+r CellNOptR -R && F:\biocbuild\bbs-3.22-bioc\R\bin\R.exe CMD build --keep-empty-dirs --no-resave-data CellNOptR StartedAt: 2025-07-07 17:53:38 -0400 (Mon, 07 Jul 2025) EndedAt: 2025-07-07 17:56:38 -0400 (Mon, 07 Jul 2025) EllapsedTime: 180.1 seconds RetCode: 0 Status: OK PackageFile: CellNOptR_1.55.0.tar.gz PackageFileSize: 3.262 MiB