Package: CellNOptR Version: 1.55.0 Command: rm -rf CellNOptR.buildbin-libdir && mkdir CellNOptR.buildbin-libdir && F:\biocbuild\bbs-3.22-bioc\R\bin\R.exe CMD INSTALL --build --library=CellNOptR.buildbin-libdir CellNOptR_1.55.0.tar.gz StartedAt: 2025-07-10 09:11:52 -0400 (Thu, 10 Jul 2025) EndedAt: 2025-07-10 09:13:22 -0400 (Thu, 10 Jul 2025) EllapsedTime: 90.0 seconds RetCode: 0 Status: OK PackageFile: CellNOptR_1.55.0.zip PackageFileSize: 2.564 MiB