Package: CellMixS Version: 1.25.0 Command: F:\biocbuild\bbs-3.22-bioc\R\bin\R.exe CMD check --no-multiarch --install=check:CellMixS.install-out.txt --library=F:\biocbuild\bbs-3.22-bioc\R\library --no-vignettes --timings CellMixS_1.25.0.tar.gz StartedAt: 2025-07-12 00:13:30 -0400 (Sat, 12 Jul 2025) EndedAt: 2025-07-12 00:18:23 -0400 (Sat, 12 Jul 2025) EllapsedTime: 292.9 seconds RetCode: 0 Status: OK CheckDir: CellMixS.Rcheck Warnings: 0