Package: CellMixS Version: 1.25.0 Command: rm -rf CellMixS.buildbin-libdir && mkdir CellMixS.buildbin-libdir && F:\biocbuild\bbs-3.22-bioc\R\bin\R.exe CMD INSTALL --build --library=CellMixS.buildbin-libdir CellMixS_1.25.0.tar.gz StartedAt: 2025-07-12 08:31:00 -0400 (Sat, 12 Jul 2025) EndedAt: 2025-07-12 08:31:35 -0400 (Sat, 12 Jul 2025) EllapsedTime: 34.2 seconds RetCode: 0 Status: OK PackageFile: CellMixS_1.25.0.zip PackageFileSize: 2.696 MiB