Package: CellMixS Version: 1.25.0 Command: /Library/Frameworks/R.framework/Resources/bin/R CMD check --install=check:CellMixS.install-out.txt --library=/Library/Frameworks/R.framework/Resources/library --no-vignettes --timings CellMixS_1.25.0.tar.gz StartedAt: 2025-07-15 19:49:21 -0400 (Tue, 15 Jul 2025) EndedAt: 2025-07-15 19:53:39 -0400 (Tue, 15 Jul 2025) EllapsedTime: 257.5 seconds RetCode: 0 Status: OK CheckDir: CellMixS.Rcheck Warnings: 0