Package: CellBench Version: 1.25.0 Command: /Library/Frameworks/R.framework/Resources/bin/R CMD check --install=check:CellBench.install-out.txt --library=/Library/Frameworks/R.framework/Resources/library --no-vignettes --timings CellBench_1.25.0.tar.gz StartedAt: 2025-07-06 19:30:38 -0400 (Sun, 06 Jul 2025) EndedAt: 2025-07-06 19:34:40 -0400 (Sun, 06 Jul 2025) EllapsedTime: 242.5 seconds RetCode: 0 Status: OK CheckDir: CellBench.Rcheck Warnings: 0