Package: CellBarcode Version: 1.15.0 Command: F:\biocbuild\bbs-3.22-bioc\R\bin\R.exe CMD INSTALL CellBarcode StartedAt: 2025-07-01 16:53:35 -0400 (Tue, 01 Jul 2025) EndedAt: 2025-07-01 16:57:06 -0400 (Tue, 01 Jul 2025) EllapsedTime: 210.2 seconds RetCode: 0 Status: OK