Package: CellBarcode Version: 1.15.0 Command: F:\biocbuild\bbs-3.22-bioc\R\bin\R.exe CMD check --no-multiarch --install=check:CellBarcode.install-out.txt --library=F:\biocbuild\bbs-3.22-bioc\R\library --no-vignettes --timings CellBarcode_1.15.0.tar.gz StartedAt: 2025-07-02 00:12:03 -0400 (Wed, 02 Jul 2025) EndedAt: 2025-07-02 00:17:50 -0400 (Wed, 02 Jul 2025) EllapsedTime: 346.4 seconds RetCode: 0 Status: OK CheckDir: CellBarcode.Rcheck Warnings: 0