Package: CellBarcode Version: 1.15.0 Command: chmod a+r CellBarcode -R && F:\biocbuild\bbs-3.22-bioc\R\bin\R.exe CMD build --keep-empty-dirs --no-resave-data CellBarcode StartedAt: 2025-07-01 17:50:47 -0400 (Tue, 01 Jul 2025) EndedAt: 2025-07-01 17:54:04 -0400 (Tue, 01 Jul 2025) EllapsedTime: 197.4 seconds RetCode: 0 Status: OK PackageFile: CellBarcode_1.15.0.tar.gz PackageFileSize: 2.428 MiB