Package: CeTF Version: 1.21.0 Command: rm -rf CeTF.buildbin-libdir && mkdir CeTF.buildbin-libdir && F:\biocbuild\bbs-3.22-bioc\R\bin\R.exe CMD INSTALL --build --library=CeTF.buildbin-libdir CeTF_1.21.0.tar.gz StartedAt: 2025-07-17 08:38:14 -0400 (Thu, 17 Jul 2025) EndedAt: 2025-07-17 08:39:30 -0400 (Thu, 17 Jul 2025) EllapsedTime: 76.0 seconds RetCode: 0 Status: OK PackageFile: CeTF_1.21.0.zip PackageFileSize: 3.227 MiB