Package: CatsCradle Version: 1.3.0 Command: /home/biocbuild/R/R/bin/R CMD build --keep-empty-dirs --no-resave-data CatsCradle StartedAt: 2025-09-18 23:24:49 -0000 (Thu, 18 Sep 2025) EndedAt: 2025-09-18 23:34:34 -0000 (Thu, 18 Sep 2025) EllapsedTime: 585.2 seconds RetCode: 1 Status: ERROR PackageFile: None PackageFileSize: NA