Package: Category Version: 2.75.0 Command: /Library/Frameworks/R.framework/Resources/bin/R CMD INSTALL Category StartedAt: 2025-10-06 15:27:36 -0400 (Mon, 06 Oct 2025) EndedAt: 2025-10-06 15:28:09 -0400 (Mon, 06 Oct 2025) EllapsedTime: 33.5 seconds RetCode: 0 Status: OK