Package: CardinalIO Version: 1.7.0 Command: /Library/Frameworks/R.framework/Resources/bin/R CMD build --keep-empty-dirs --no-resave-data CardinalIO StartedAt: 2025-10-03 15:50:07 -0400 (Fri, 03 Oct 2025) EndedAt: 2025-10-03 15:50:18 -0400 (Fri, 03 Oct 2025) EllapsedTime: 11.1 seconds RetCode: 0 Status: OK PackageFile: CardinalIO_1.7.0.tar.gz PackageFileSize: 968.5 KiB