Package: CaMutQC Version: 1.5.5 Command: chmod a+r CaMutQC -R && F:\biocbuild\bbs-3.22-bioc\R\bin\R.exe CMD build --keep-empty-dirs --no-resave-data CaMutQC StartedAt: 2025-07-24 17:58:22 -0400 (Thu, 24 Jul 2025) EndedAt: 2025-07-24 17:59:49 -0400 (Thu, 24 Jul 2025) EllapsedTime: 86.9 seconds RetCode: 0 Status: OK PackageFile: CaMutQC_1.5.5.tar.gz PackageFileSize: 5.311 MiB