Package: CaMutQC Version: 1.5.5 Command: rm -rf CaMutQC.buildbin-libdir && mkdir CaMutQC.buildbin-libdir && F:\biocbuild\bbs-3.22-bioc\R\bin\R.exe CMD INSTALL --build --library=CaMutQC.buildbin-libdir CaMutQC_1.5.5.tar.gz StartedAt: 2025-07-25 08:51:48 -0400 (Fri, 25 Jul 2025) EndedAt: 2025-07-25 08:52:35 -0400 (Fri, 25 Jul 2025) EllapsedTime: 47.1 seconds RetCode: 0 Status: OK PackageFile: CaMutQC_1.5.5.zip PackageFileSize: 4.583 MiB