Package: CaMutQC Version: 1.5.4 Command: /Library/Frameworks/R.framework/Resources/bin/R CMD check --install=check:CaMutQC.install-out.txt --library=/Library/Frameworks/R.framework/Resources/library --no-vignettes --timings CaMutQC_1.5.4.tar.gz StartedAt: 2025-07-14 19:38:08 -0400 (Mon, 14 Jul 2025) EndedAt: 2025-07-14 19:41:57 -0400 (Mon, 14 Jul 2025) EllapsedTime: 228.8 seconds RetCode: 0 Status: OK CheckDir: CaMutQC.Rcheck Warnings: 0