Package: CaMutQC Version: 1.5.4 Command: rm -rf CaMutQC.buildbin-libdir && mkdir CaMutQC.buildbin-libdir && /Users/biocbuild/BBS/utils/build-universal.sh CaMutQC_1.5.4.tar.gz /Library/Frameworks/R.framework/Resources/bin/R CaMutQC.buildbin-libdir StartedAt: 2025-07-15 00:48:37 -0400 (Tue, 15 Jul 2025) EndedAt: 2025-07-15 00:49:18 -0400 (Tue, 15 Jul 2025) EllapsedTime: 40.6 seconds RetCode: 0 Status: OK PackageFile: CaMutQC_1.5.4.tgz PackageFileSize: 4.583 MiB