Package: CaDrA Version: 1.7.0 Command: F:\biocbuild\bbs-3.22-bioc\R\bin\R.exe CMD INSTALL CaDrA StartedAt: 2025-07-21 16:13:54 -0400 (Mon, 21 Jul 2025) EndedAt: 2025-07-21 16:14:36 -0400 (Mon, 21 Jul 2025) EllapsedTime: 42.6 seconds RetCode: 0 Status: OK