Package: CTexploreR Version: 1.5.0 Command: /home/biocbuild/R/R/bin/R CMD INSTALL CTexploreR StartedAt: 2025-07-17 21:17:36 -0000 (Thu, 17 Jul 2025) EndedAt: 2025-07-17 21:18:33 -0000 (Thu, 17 Jul 2025) EllapsedTime: 56.9 seconds RetCode: 0 Status: OK