Package: CTexploreR Version: 1.5.0 Command: /home/biocbuild/R/R/bin/R CMD check --install=check:CTexploreR.install-out.txt --library=/home/biocbuild/R/R/site-library --no-vignettes --timings CTexploreR_1.5.0.tar.gz StartedAt: 2025-07-18 05:46:57 -0000 (Fri, 18 Jul 2025) EndedAt: 2025-07-18 06:26:58 -0000 (Fri, 18 Jul 2025) EllapsedTime: 2400.6 seconds RetCode: None Status: TIMEOUT CheckDir: CTexploreR.Rcheck Warnings: NA