Package: CTexploreR Version: 1.5.0 Command: /home/biocbuild/R/R/bin/R CMD build --keep-empty-dirs --no-resave-data CTexploreR StartedAt: 2025-07-17 23:06:43 -0000 (Thu, 17 Jul 2025) EndedAt: 2025-07-17 23:19:44 -0000 (Thu, 17 Jul 2025) EllapsedTime: 780.7 seconds RetCode: 0 Status: OK PackageFile: CTexploreR_1.5.0.tar.gz PackageFileSize: 4.459 MiB