Package: CTexploreR Version: 1.5.0 Command: chmod a+r CTexploreR -R && F:\biocbuild\bbs-3.22-bioc\R\bin\R.exe CMD build --keep-empty-dirs --no-resave-data CTexploreR StartedAt: 2025-07-14 18:16:03 -0400 (Mon, 14 Jul 2025) EndedAt: 2025-07-14 18:36:38 -0400 (Mon, 14 Jul 2025) EllapsedTime: 1235.0 seconds RetCode: 0 Status: OK PackageFile: CTexploreR_1.5.0.tar.gz PackageFileSize: 5.376 MiB