Package: CTexploreR Version: 1.5.0 Command: rm -rf CTexploreR.buildbin-libdir && mkdir CTexploreR.buildbin-libdir && F:\biocbuild\bbs-3.22-bioc\R\bin\R.exe CMD INSTALL --build --library=CTexploreR.buildbin-libdir CTexploreR_1.5.0.tar.gz StartedAt: 2025-07-15 08:43:04 -0400 (Tue, 15 Jul 2025) EndedAt: 2025-07-15 08:47:54 -0400 (Tue, 15 Jul 2025) EllapsedTime: 290.0 seconds RetCode: 0 Status: OK PackageFile: CTexploreR_1.5.0.zip PackageFileSize: 7.949 MiB