Package: CTexploreR Version: 1.5.0 Command: /Library/Frameworks/R.framework/Resources/bin/R CMD check --install=check:CTexploreR.install-out.txt --library=/Library/Frameworks/R.framework/Resources/library --no-vignettes --timings CTexploreR_1.5.0.tar.gz StartedAt: 2025-07-01 20:07:27 -0400 (Tue, 01 Jul 2025) EndedAt: 2025-07-01 20:28:50 -0400 (Tue, 01 Jul 2025) EllapsedTime: 1282.8 seconds RetCode: 0 Status: OK CheckDir: CTexploreR.Rcheck Warnings: 0