Package: CTexploreR Version: 1.5.0 Command: /Library/Frameworks/R.framework/Resources/bin/R CMD build --keep-empty-dirs --no-resave-data CTexploreR StartedAt: 2025-07-01 16:38:55 -0400 (Tue, 01 Jul 2025) EndedAt: 2025-07-01 16:49:21 -0400 (Tue, 01 Jul 2025) EllapsedTime: 625.4 seconds RetCode: 0 Status: OK PackageFile: CTexploreR_1.5.0.tar.gz PackageFileSize: 7.538 MiB