Package: CTexploreR Version: 1.5.0 Command: rm -rf CTexploreR.buildbin-libdir && mkdir CTexploreR.buildbin-libdir && /Users/biocbuild/BBS/utils/build-universal.sh CTexploreR_1.5.0.tar.gz /Library/Frameworks/R.framework/Resources/bin/R CTexploreR.buildbin-libdir StartedAt: 2025-07-02 00:52:44 -0400 (Wed, 02 Jul 2025) EndedAt: 2025-07-02 00:53:41 -0400 (Wed, 02 Jul 2025) EllapsedTime: 56.7 seconds RetCode: 0 Status: OK PackageFile: CTexploreR_1.5.0.tgz PackageFileSize: 10.11 MiB