Package: CTexploreR Version: 1.5.0 Command: /Library/Frameworks/R.framework/Resources/bin/R CMD build --keep-empty-dirs --no-resave-data CTexploreR StartedAt: 2025-07-14 16:00:29 -0400 (Mon, 14 Jul 2025) EndedAt: 2025-07-14 16:06:28 -0400 (Mon, 14 Jul 2025) EllapsedTime: 359.0 seconds RetCode: 0 Status: OK PackageFile: CTexploreR_1.5.0.tar.gz PackageFileSize: 7.55 MiB