Package: CTdata Version: 1.9.0 Command: /home/biocbuild/bbs-3.22-bioc/R/bin/R CMD check --install=check:CTdata.install-out.txt --library=/home/biocbuild/bbs-3.22-bioc/R/site-library --timings CTdata_1.9.0.tar.gz StartedAt: 2025-07-13 21:16:42 -0400 (Sun, 13 Jul 2025) EndedAt: 2025-07-13 21:24:45 -0400 (Sun, 13 Jul 2025) EllapsedTime: 483.4 seconds RetCode: 0 Status: OK CheckDir: CTdata.Rcheck Warnings: 0