Package: CTdata Version: 1.9.0 Command: /home/biocbuild/bbs-3.22-bioc/R/bin/R CMD build --keep-empty-dirs --no-resave-data --md5 CTdata StartedAt: 2025-07-13 16:46:34 -0400 (Sun, 13 Jul 2025) EndedAt: 2025-07-13 16:53:01 -0400 (Sun, 13 Jul 2025) EllapsedTime: 387.4 seconds RetCode: 0 Status: OK PackageFile: CTdata_1.9.0.tar.gz PackageFileSize: 6.972 MiB