Package: CTdata Version: 1.9.0 Command: /Library/Frameworks/R.framework/Resources/bin/R CMD build --keep-empty-dirs --no-resave-data CTdata StartedAt: 2025-07-14 16:36:25 -0400 (Mon, 14 Jul 2025) EndedAt: 2025-07-14 16:41:40 -0400 (Mon, 14 Jul 2025) EllapsedTime: 314.9 seconds RetCode: 0 Status: OK PackageFile: CTdata_1.9.0.tar.gz PackageFileSize: 6.97 MiB