Package: CTSV Version: 1.11.0 Command: /home/biocbuild/R/R/bin/R CMD check --install=check:CTSV.install-out.txt --library=/home/biocbuild/R/R/site-library --no-vignettes --timings CTSV_1.11.0.tar.gz StartedAt: 2025-07-18 05:47:53 -0000 (Fri, 18 Jul 2025) EndedAt: 2025-07-18 05:52:23 -0000 (Fri, 18 Jul 2025) EllapsedTime: 269.3 seconds RetCode: 0 Status: OK CheckDir: CTSV.Rcheck Warnings: 0