Package: CTSV Version: 1.11.0 Command: rm -rf CTSV.buildbin-libdir && mkdir CTSV.buildbin-libdir && F:\biocbuild\bbs-3.22-bioc\R\bin\R.exe CMD INSTALL --build --library=CTSV.buildbin-libdir CTSV_1.11.0.tar.gz StartedAt: 2025-07-18 08:44:37 -0400 (Fri, 18 Jul 2025) EndedAt: 2025-07-18 08:45:09 -0400 (Fri, 18 Jul 2025) EllapsedTime: 31.4 seconds RetCode: 0 Status: OK PackageFile: CTSV_1.11.0.zip PackageFileSize: 325.6 KiB