Package: CTSV Version: 1.11.0 Command: /home/biocbuild/bbs-3.22-bioc/R/bin/R CMD build --keep-empty-dirs --no-resave-data --md5 CTSV StartedAt: 2025-07-02 16:59:35 -0400 (Wed, 02 Jul 2025) EndedAt: 2025-07-02 17:00:22 -0400 (Wed, 02 Jul 2025) EllapsedTime: 46.0 seconds RetCode: 0 Status: OK PackageFile: CTSV_1.11.0.tar.gz PackageFileSize: 303.9 KiB