Package: CTSV Version: 1.11.0 Command: /Library/Frameworks/R.framework/Resources/bin/R CMD INSTALL CTSV StartedAt: 2025-10-09 15:21:35 -0400 (Thu, 09 Oct 2025) EndedAt: 2025-10-09 15:22:12 -0400 (Thu, 09 Oct 2025) EllapsedTime: 36.5 seconds RetCode: 0 Status: OK