Package: CTSV Version: 1.11.0 Command: rm -rf CTSV.buildbin-libdir && mkdir CTSV.buildbin-libdir && /Users/biocbuild/BBS/utils/build-universal.sh CTSV_1.11.0.tar.gz /Library/Frameworks/R.framework/Resources/bin/R CTSV.buildbin-libdir StartedAt: 2025-10-11 02:24:54 -0400 (Sat, 11 Oct 2025) EndedAt: 2025-10-11 02:25:33 -0400 (Sat, 11 Oct 2025) EllapsedTime: 39.5 seconds RetCode: 0 Status: OK PackageFile: CTSV_1.11.0.tgz PackageFileSize: 320.8 KiB