Package: CTSV Version: 1.11.0 Maintainer: Jinge Yu Developer MaintainerEmail: yjgruc at ruc.edu.cn git_url: https://git.bioconductor.org/packages/CTSV git_branch: devel git_last_commit: 386630d git_last_commit_date: 2025-04-15 12:52:52 -0400 (Tue, 15 Apr 2025)