Package: CSAR Version: 1.61.1 Command: /home/biocbuild/R/R/bin/R CMD INSTALL CSAR StartedAt: 2025-10-02 21:28:36 -0000 (Thu, 02 Oct 2025) EndedAt: 2025-10-02 21:28:48 -0000 (Thu, 02 Oct 2025) EllapsedTime: 12.2 seconds RetCode: 0 Status: OK