Package: CSAR Version: 1.61.1 Command: /home/biocbuild/R/R/bin/R CMD check --install=check:CSAR.install-out.txt --library=/home/biocbuild/R/R/site-library --no-vignettes --timings CSAR_1.61.1.tar.gz StartedAt: 2025-10-03 06:08:04 -0000 (Fri, 03 Oct 2025) EndedAt: 2025-10-03 06:10:28 -0000 (Fri, 03 Oct 2025) EllapsedTime: 144.1 seconds RetCode: 0 Status: OK CheckDir: CSAR.Rcheck Warnings: 0