Package: CSAR Version: 1.61.1 Command: /home/biocbuild/R/R/bin/R CMD build --keep-empty-dirs --no-resave-data CSAR StartedAt: 2025-10-02 23:12:58 -0000 (Thu, 02 Oct 2025) EndedAt: 2025-10-02 23:13:43 -0000 (Thu, 02 Oct 2025) EllapsedTime: 45.1 seconds RetCode: 0 Status: OK PackageFile: CSAR_1.61.1.tar.gz PackageFileSize: 225.7 KiB